BEGIN:VCALENDAR
VERSION:2.0
PRODID:-//eventon.com NONSGML v1.0//EN
BEGIN:VEVENT
UID:69e6ebb7f15a2
DTSTAMP:20260420T231503
DTSTART:20220718T190000Z
DTEND:20220718T210000Z
TZID:America/New_York
LOCATION:Scheide Park  W Central Ave\,  Titusville\,  PA 16354
SUMMARY:Monday Night Concerts in the Park: Tiger Maple String Band (Bluegrass)
DESCRIPTION: Join us for some great live entertainment! Remember to bring your own chair. This event is FREE to the public. Concessions will be provided by the Titusville Historical Society.\nhttps://visitcrawford.bullmoosewebsites.com/events/monday-night-concerts-in-the-park-tiger-maple-string-band-bluegrass/
URL:https://visitcrawford.bullmoosewebsites.com/events/monday-night-concerts-in-the-park-tiger-maple-string-band-bluegrass/
END:VEVENT
END:VCALENDAR