BEGIN:VCALENDAR
VERSION:2.0
PRODID:-//eventon.com NONSGML v1.0//EN
BEGIN:VEVENT
UID:69e6a08e4ce5c
DTSTAMP:20260420T175422
DTSTART:20220325T063000Z
DTEND:20220325T083000Z
TZID:America/New_York
LOCATION:Guys Mills Church 11537 PA-198\,  Guys Mills\,  PA 16327
SUMMARY:FREE Coffee Friday
DESCRIPTION: FREE coffee or hot chocolate every Friday in March. Drive through church parking lot anytime between 6:30am to 8:30am.\nhttps://visitcrawford.bullmoosewebsites.com/events/free-coffee-friday-4/
URL:https://visitcrawford.bullmoosewebsites.com/events/free-coffee-friday-4/
END:VEVENT
END:VCALENDAR