BEGIN:VCALENDAR
VERSION:2.0
PRODID:-//eventon.com NONSGML v1.0//EN
BEGIN:VEVENT
UID:69eb1086eca49
DTSTAMP:20260424T024110
DTSTART:20210820T193000Z
DTEND:20210820T213000Z
TZID:America/New_York
LOCATION:Pine Masonic Hall Albion\,  PA 16401
SUMMARY:A.R. Gurney's Love Letters
DESCRIPTION: A unique and imaginative theater piece which is comprised of letters exchanged over a lifetime between two people who grew up together\,  went their separate ways\,  but continued to share confidences. As the actors read the letters aloud\,  what is created is an evocative\,  touching\,  frequently funny but always telling[..]\nhttps://visitcrawford.bullmoosewebsites.com/events/a-r-gurneys-love-letters/
URL:https://visitcrawford.bullmoosewebsites.com/events/a-r-gurneys-love-letters/
END:VEVENT
END:VCALENDAR