BEGIN:VCALENDAR
VERSION:2.0
PRODID:-//eventon.com NONSGML v1.0//EN
BEGIN:VEVENT
UID:69e4c4e760e7f
DTSTAMP:20260419T080455
DTSTART:20211006T110000Z
DTEND:20211031T110000Z
TZID:America/New_York
LOCATION:Oilcreek and Titusville Railroad 409 S Perry St.\,  Titusville\,  PA 16354
SUMMARY:Oil Creek & Titusville Railroad Fall Foliage Rides
DESCRIPTION: Tickets are already selling fast for our Fall Foliage Train rides in October.  Call now while First Class and Coach tickets are still available. Make advance reservations is highly recommended as we can sell out. We accept all major credit cards and reservations can be made by calling our office[..]\nhttps://visitcrawford.bullmoosewebsites.com/events/oil-creek-titusville-railroad-fall-foliage-rides/
URL:https://visitcrawford.bullmoosewebsites.com/events/oil-creek-titusville-railroad-fall-foliage-rides/
END:VEVENT
END:VCALENDAR