BEGIN:VCALENDAR
VERSION:2.0
PRODID:-//eventon.com NONSGML v1.0//EN
BEGIN:VEVENT
UID:69e8d4b8d46c9
DTSTAMP:20260422T100128
DTSTART:20210710T090000Z
DTEND:20210711T163000Z
TZID:America/New_York
LOCATION:Cochranton Fairgrounds Pearl St\,  Cochranton\,  PA
SUMMARY:French Creek Heritage Event
DESCRIPTION: A walk back to the days leading up to the Revolutionary War\,  the French Creek Heritage Event showcases period reenactments and encampments\,  renown authors and speakers\,  demonstrations\,  activities for all ages\,  as well as sutlers peddling their wares and crafts.  Free admission and parking. https://www.cochrantoncare.org/the-event\nhttps://visitcrawford.bullmoosewebsites.com/events/french-creek-heritage-event/
URL:https://visitcrawford.bullmoosewebsites.com/events/french-creek-heritage-event/
END:VEVENT
END:VCALENDAR